BEGIN:VCALENDAR
VERSION:2.0
CALSCALE:GREGORIAN
METHOD:PUBLISH
X-WR-TIMEZONE:Australia/Sydney
BEGIN:VTIMEZONE
TZID:Australia/Sydney
BEGIN:STANDARD
TZNAME:AEST
END:STANDARD
END:VTIMEZONE
BEGIN:VEVENT
DTSTART;TZID=Australia/Sydney:20260429T170000
DTEND;TZID=Australia/Sydney:20260429T180000
RRULE:FREQ=MONTHLY;UNTIL=20260429T180000;BYDAY=1SU,1SU
DTSTAMP:20260425T015900
UID:45
SUMMARY:School Enrolment Tour
DESCRIPTION:




School Tour suitable for prospective Prep 2027 families.Bookings essential - phone 8000 5095 or email murrum.ps@education.vic.gov.au&amp;nbsp;to reserve your place.


SEQUENCE:0
STATUS:CONFIRMED
TRANSP:OPAQUE
END:VEVENT
END:VCALENDAR